BEGIN:VCALENDAR
VERSION:2.0
PRODID:-//agricapitaux - ECPv6.15.20//NONSGML v1.0//EN
CALSCALE:GREGORIAN
METHOD:PUBLISH
X-ORIGINAL-URL:https://agricapitaux.com
X-WR-CALDESC:Évènements pour agricapitaux
REFRESH-INTERVAL;VALUE=DURATION:PT1H
X-Robots-Tag:noindex
X-PUBLISHED-TTL:PT1H
BEGIN:VTIMEZONE
TZID:UTC
BEGIN:STANDARD
TZOFFSETFROM:+0000
TZOFFSETTO:+0000
TZNAME:UTC
DTSTART:20240101T000000
END:STANDARD
END:VTIMEZONE
BEGIN:VEVENT
DTSTART;TZID=UTC:20250426T144500
DTEND;TZID=UTC:20250426T170000
DTSTAMP:20260420T153236
CREATED:20250425T155157Z
LAST-MODIFIED:20250425T155932Z
UID:3486-1745678700-1745686800@agricapitaux.com
SUMMARY:Rencontre des Pionniers du projet AGRICAP
DESCRIPTION:Un moment stratégique pour bâtir l’avenir de l’agriculture en Afrique. Innovation\, investissement et vision commune seront au cœur de cette rencontre exclusive.
URL:https://agricapitaux.com/evenement/rencontre-des-pionniers-du-projet-agricap/
LOCATION:SILIKIN VILLAGE\, Concession COTEX N° 63\, Ave Colonel Mondjiba\, Kinshasa\, KINSHASA\, KINSHASA\, Congo\, Democratic Republic of the
ATTACH;FMTTYPE=image/jpeg:https://agricapitaux.com/wp-content/uploads/2025/04/Rencontre-des-Pionniers2-scaled.jpg
ORGANIZER;CN="AGRICAP":MAILTO:contact@agricapitaux.com
END:VEVENT
END:VCALENDAR